BEGIN:VCALENDAR
VERSION:2.0
X-WR-CALNAME:www.indybay.org
PRODID:-//indybay/ical// v1.0//EN
BEGIN:VEVENT
UID:Indybay-18829998
SEQUENCE:18981215
CREATED:20200122T020500Z
DESCRIPTION:Tim Redmond, award-winning journalist and editor of 48hills.org, will be 
 giving his assessment of all the local races. We will also be talking about 
 several important local elections we may want to get involved in. \nThere 
 are three judge seats, the DCCC, a State Senate race, CD-12, and five 
 ballot initiatives.\n\nLight refreshment will be served.\nProgressive 
 Democrats of America-San Francisco \n\n\n 
 https://www.indybay.org/newsitems/2020/01/21/18829998.php
SUMMARY:San Francisco Election Forum with Special Guest Tim Redmond
LOCATION:San Francisco Public Library Park Branch\n1833 Page St. San Francisco CA.
URL:https://www.indybay.org/newsitems/2020/01/21/18829998.php
DTSTART:20200124T030000Z
DTEND:20200124T050000Z
END:VEVENT
END:VCALENDAR
