BEGIN:VCALENDAR
VERSION:2.0
X-WR-CALNAME:www.indybay.org
PRODID:-//indybay/ical// v1.0//EN
BEGIN:VEVENT
UID:Indybay-18829723
SEQUENCE:18980736
CREATED:20200114T033000Z
DESCRIPTION:STAND 2020: MLK Jr. Day of Art & Solidarity\n\nWhen: Monday, January 20, 
 2020 at 10:00 AM – 2:00 PM PST\n\nLocation: School of Arts & Culture at 
 Mexican Heritage Plaza, 1700 Alum Rock Ave, San Jose 95116\n\nCost: 
 FREE\n\nJoin us for a day of ART and SOLIDARITY as we come together to 
 honor Dr. Martin Luther King Jr.'s legacy by creating and sharing art in 
 many forms.\n\nArtists from diverse cultures and disciplines will lead 
 participants through workshops culminating in performances followed by free 
 lunch!  The event is FREE and Open to all, but space is limited - so 
 reserve your seat today.\n 
 https://www.indybay.org/newsitems/2020/01/13/18829723.php
SUMMARY:STAND 2020: MLK Jr. Day of Art & Solidarity
LOCATION:Mexican Heritage Plaza,1700 Alum Rock Ave, San Jose, California 95116
URL:https://www.indybay.org/newsitems/2020/01/13/18829723.php
DTSTART:20200120T180000Z
DTEND:20200120T220000Z
END:VEVENT
END:VCALENDAR
