BEGIN:VCALENDAR
VERSION:2.0
X-WR-CALNAME:www.indybay.org
PRODID:-//indybay/ical// v1.0//EN
BEGIN:VEVENT
UID:Indybay-18829552
SEQUENCE:18980499
CREATED:20200109T051100Z
DESCRIPTION:MEDICARE FOR ALL TOWN HALL in SAN JOSE\n\nDate and Time: Monday, January 
 20, 2020 @ 4:00 PM – 6:00 PM\n\nLocation: Main offices of Laborers Local 
 270, 2195 Fortune Drive, San Jose, CA 95131\n\nPlease join Congressman 
 Khanna and California  Assemblymember Kalra as they discuss Medicare for 
 All. Questions from the audience are encouraged!\n\nAbout Congressman Ro 
 Khanna:\n\nCongressman Ro Khanna represents California’s 17th 
 Congressional District, located in the heart of Silicon Valley, and is 
 serving in his second term. Rep. Khanna sits on the House Budget, Armed 
 Services, and Oversight and Reform committees and is first vice chair of 
 the Congressional Progressive Caucus. He also serves as an Assistant Whip 
 for the Democratic Caucus.\n\nAbout Assemblymember Ash Kalra:\n\nIn 
 November 2016, Ash Kalra was elected to represent the 27th Assembly 
 District, which encompasses downtown San Jose, East San Jose, Evergreen and 
 parts of South San Jose. Ash was appointed Chair of the Assembly Committee 
 on Labor and Employment, and also sits on the Aging and Long Term Care, 
 Education, Judiciary, and Water, Parks, and Wildlife Committees.\n\n\n 
 https://www.indybay.org/newsitems/2020/01/08/18829552.php
SUMMARY:Medicare for All Town Hall with Congressman Khanna and Assembyman Kalra
LOCATION:Main offices of Laborers Local 270, 2195 Fortune Drive, San Jose, CA 95131
URL:https://www.indybay.org/newsitems/2020/01/08/18829552.php
DTSTART:20200121T000000Z
DTEND:20200121T020000Z
END:VEVENT
END:VCALENDAR
