BEGIN:VCALENDAR
VERSION:2.0
X-WR-CALNAME:www.indybay.org
PRODID:-//indybay/ical// v1.0//EN
BEGIN:VEVENT
UID:Indybay-18829481
SEQUENCE:18980387
CREATED:20200107T024700Z
DESCRIPTION:This Radical Women pamphlet, by Chicana feminist Christina Lopez, 
 highlights the fighting spirit and working-class leadership that immigrant 
 women bring to social movements. \n\nCome to New Valencia Hall and join the 
 discussion! \n\nThere are two dates to choose from: \n\nTuesday, 1/14, 7 to 
 8:30 pm \nor \nWednesday, 1/15, 3:30 to 5 pm\n\n$3-5 donation is 
 requested\n\nTo get a copy of the pamphlet, stop by the hall or contact 
 us:\n\n415-864-1278 • bayareafsp@socialism.com • fb.com/fspbayarea\n 
 https://www.indybay.org/newsitems/2020/01/06/18829481.php
SUMMARY:"Estamos en la Lucha" Reading/Discussion Group (sec. 2)
LOCATION:New Valencia Hall\n747 Polk Street (by Ellis), San Francisco\n(near Civic 
 Center BART, Muni Lines 19, 31, 38, 47, 49)\nWheelchair accessible
URL:https://www.indybay.org/newsitems/2020/01/06/18829481.php
DTSTART:20200115T233000Z
DTEND:20200116T010000Z
END:VEVENT
END:VCALENDAR
