BEGIN:VCALENDAR
VERSION:2.0
X-WR-CALNAME:www.indybay.org
PRODID:-//indybay/ical// v1.0//EN
BEGIN:VEVENT
UID:Indybay-18829434
SEQUENCE:18980300
CREATED:20200104T193900Z
DESCRIPTION:An evening of music by the Sacramento Women's Chorus, Gay Men's Chorus and 
 local singer/songwriters Jean and Jim Strathdee. to benefit the Trans Queer 
 Youth Collective. This group provides much needed support to teens and 
 pre-teens. Tickets are only $15 in advance or $20 at the door.  For more 
 information about Trans Queer Youth Collective and for purchasing tickets 
 go to tqyc.org \n https://www.indybay.org/newsitems/2020/01/04/18829434.php
SUMMARY:Benefit Concert for Trans Queer Youth Collective
LOCATION:First United Methodist Church\n2100 J Street \nSacramento, CA   958162
URL:https://www.indybay.org/newsitems/2020/01/04/18829434.php
DTSTART:20200126T030000Z
DTEND:20200126T043000Z
END:VEVENT
END:VCALENDAR
