BEGIN:VCALENDAR
VERSION:2.0
X-WR-CALNAME:www.indybay.org
PRODID:-//indybay/ical// v1.0//EN
BEGIN:VEVENT
UID:Indybay-18828788
SEQUENCE:18979144
CREATED:20191211T044900Z
DESCRIPTION:What: An Evening for Chile: Chilean civil society is currently under 
 radical transformation for the people and by the people across identities, 
 class, and culture. Come learn about this critical social uprising and 
 important moment in history against neo-liberal capitalism. Presenters this 
 evening will be sharing first-hand accounts, facts about the uprising, 
 poems, songs, and there will be opportunities for discussion and meeting 
 new people.\n\nWhy: This social uprising is a model and inspiration for all 
 societies across the Americas and around the world interested in 
 dismantling the privatization, impoverishment of social life and services 
 i.e. health care, social security, public housing, higher and public 
 education on the heals of "solutions" such as mass incarceration and abject 
 inequality that are the pillars of neoliberalism's free market capitalism. 
 Such economic constructs only promote and uphold patriarchal values such as 
 racism, sexism, homophobia, to name a few. The Chilean people are demanding 
 a re-write of their constitution and reckoning with the repercussions of 
 the US-backed coup d'etat that ousted democratically elected socialist 
 President Salvador Allende in 1973. Chilean society has been under 
 neoliberal dictatorship and failing democracy ever since. This event is 
 meant to raise educational awareness, inspire, and raise money for people 
 on the streets in Chile facing severe state violence such as rape, 
 disappearance, and severe violence such as rubber bullets to their eyes at 
 the hands of the police. Please come open and curious to learn and remember 
 the U.S. relationship with Latin American imperialism and to gain 
 understanding for what the implications of a social revolt like this 
 are.\n\nThere will be light refreshments and music and poetry/essays by 
 Latinx artists, including Cambucheros Salsa Cruz! \n\n5-20 dollars 
 donation. NOTAFLOF\n 
 https://www.indybay.org/newsitems/2019/12/10/18828788.php
SUMMARY:An Evening for Chile: teach in, discussion, music, and stories
LOCATION:SubRosa Community Space\n703 Pacific Ave, Santa Cruz
URL:https://www.indybay.org/newsitems/2019/12/10/18828788.php
DTSTART:20191219T030000Z
DTEND:20191219T060000Z
END:VEVENT
END:VCALENDAR
