BEGIN:VCALENDAR
VERSION:2.0
X-WR-CALNAME:www.indybay.org
PRODID:-//indybay/ical// v1.0//EN
BEGIN:VEVENT
UID:Indybay-18828760
SEQUENCE:18979086
CREATED:20191209T013600Z
DESCRIPTION:Black and Pink's mission is to abolish the criminal punishment system and 
 to liberate LGBTQIA2S+ people/people living with HIV who are affected by 
 that system, through advocacy, support, and organizing. 
 https://www.blackandpink.org/\n\nCome through from 3-6 for cozy tea, coffee 
 & treats while we write holiday cards to queer prisoners. We will have card 
 making supplies but also feel free to bring your own! Queer prisoner letter 
 writing may also become a biweekly event on Thursdays (:\n 
 https://www.indybay.org/newsitems/2019/12/08/18828760.php
SUMMARY:Black and Pink prisoner letter writing holiday card party
LOCATION:SubRosa Community Space\n703 Pacific Ave, Santa Cruz
URL:https://www.indybay.org/newsitems/2019/12/08/18828760.php
DTSTART:20191212T230000Z
DTEND:20191213T020000Z
END:VEVENT
END:VCALENDAR
