BEGIN:VCALENDAR
VERSION:2.0
X-WR-CALNAME:www.indybay.org
PRODID:-//indybay/ical// v1.0//EN
BEGIN:VEVENT
UID:Indybay-18828414
SEQUENCE:18978569
CREATED:20191125T202100Z
DESCRIPTION:National Climate Strike in Palo Alto\n\nWhen: Friday, Dec. 6 @ 5:30 PM - 
 7:30 PM\n\nWhere: Lytton Plaza, intersection of University Ave & Emerson 
 Street, Palo Alto 94301\n\nThe September 20th Climate Strike was the 
 largest day of action for climate justice ever. On December 6th, as world 
 leaders gather at the UN’s annual climate conference, young people across 
 America will join a national #ClimateStrike to take the momentum from 
 September to our elected officials’ doorsteps.\n\nIn September, many 
 politicians shared nice words of encouragement. But, we didn’t walk out 
 of school and work to earn their praise. We joined the #ClimateStrike 
 because our lives depend on elected leaders treating this crisis like the 
 emergency it is.\n\nOn December 6th, we’ll show up at the offices of our 
 political leaders and ask them, are you ready to stand with our generation 
 and fight for a Green New Deal?\n 
 https://www.indybay.org/newsitems/2019/11/25/18828414.php
SUMMARY:National Climate Strike in Palo Alto
LOCATION:Lytton Plaza, intersection of University Ave & Emerson Street, Palo Alto 
 94301
URL:https://www.indybay.org/newsitems/2019/11/25/18828414.php
DTSTART:20191207T013000Z
DTEND:20191207T033000Z
END:VEVENT
END:VCALENDAR
