BEGIN:VCALENDAR
VERSION:2.0
X-WR-CALNAME:www.indybay.org
PRODID:-//indybay/ical// v1.0//EN
BEGIN:VEVENT
UID:Indybay-18828084
SEQUENCE:18977985
CREATED:20191113T070700Z
DESCRIPTION:Hong Kong Political Cartoonist Zunzi (尊子) will be holding an expo for 
 his art works at Dr. Sun Yat-Sen Memorial Hall in San Francisco from 11/15 
 to 11/17.\n\nZunzi will also demonstrate cartoon creation during the 11/16 
 2pm discussion panel on site.  Please refer to the following FB event link 
 for details.\nhttps://www.facebook.com/events/558510541618773/\n 
 https://www.indybay.org/newsitems/2019/11/12/18828084.php
SUMMARY:Zunzi (尊子) Political Cartoon Expo
LOCATION:Dr. Sun Yat-Sen Memorial Hall\n836 Stockton St, San Francisco, California
URL:https://www.indybay.org/newsitems/2019/11/12/18828084.php
DTSTART:20191116T180000Z
DTEND:20191117T020000Z
END:VEVENT
END:VCALENDAR
