BEGIN:VCALENDAR
VERSION:2.0
X-WR-CALNAME:www.indybay.org
PRODID:-//indybay/ical// v1.0//EN
BEGIN:VEVENT
UID:Indybay-18827958
SEQUENCE:18977806
CREATED:20191110T191600Z
DESCRIPTION:#RiseForDACA at CA State Capitol in Sacramento\n\nStart: Tuesday, November 
 12, 2019 at 10:00 AM\n\nWhere: California State Capitol, 1315 10th Street, 
 Sacramento 95814\n\nOn November 12, the Supreme Court of the United States 
 will hear arguments on the Trump Administration’s unlawful attempt to 
 terminate DACA\n\nWith the fate of DACA now in the hands of the Supreme 
 Court, hundreds of thousands of people could lose their homes, their 
 livelihoods, and their families. It’s time to put an end to this fear and 
 uncertainty and show the Supreme Court that DACA recipients and immigrant 
 families aren’t going anywhere — because their #HomeIsHere.\n\nJoin us 
 on the steps of the California State Capitol to demand that our nation's 
 Supreme Court protect DACA recipients and all immigrants.\n 
 https://www.indybay.org/newsitems/2019/11/10/18827958.php
SUMMARY:National Walkouts for DACA: Rally at State Capitol in Sacramento
LOCATION:California State Capitol, 1315 10th Street, Sacramento 95814
URL:https://www.indybay.org/newsitems/2019/11/10/18827958.php
DTSTART:20191112T180000Z
DTEND:20191112T180000Z
END:VEVENT
END:VCALENDAR
