BEGIN:VCALENDAR
VERSION:2.0
X-WR-CALNAME:www.indybay.org
PRODID:-//indybay/ical// v1.0//EN
BEGIN:VEVENT
UID:Indybay-18827549
SEQUENCE:18977112
CREATED:20191023T151100Z
DESCRIPTION:The Turkish invasion and bombardment of northern Syria is patently illegal 
 and must be opposed. The same goes for the U.S. military occupation of 
 Syria. \n\nThe sovereign government of Syria has not invited U.S. or 
 Turkish troops into its country. In essence one NATO power has turned over 
 military control of a strip of northern Syria to another NATO ally, but it 
 is not theirs to give.\n\nNeither the U.S. nor Turkey have any right to be 
 in Syria. Nearly all the mainstream opposition to Trump and the Turkish 
 invasion is obscuring this central fact.\n\nThe road to justice for Kurdish 
 people cannot be through a military alliance with predatory imperialism. 
 U.S. imperialism is an obstacle to peace and self-determination, and not 
 its agent.\nJoin us for a discussion of the latest twists and turns in the 
 Syrian war and the demands the progressive and anti-war movement must raise 
 for justice and peace in the region.\n\nREADING MATERIALS WILL BE 
 PROVIDED!\n\nFacebook event: 
 https://www.facebook.com/events/944814375891301/ \n 
 https://www.indybay.org/newsitems/2019/10/23/18827549.php
SUMMARY:Study Group "A New Phase in the Syrian War"
LOCATION:A'Roma Roasters Coffee, 95 5th St., Santa Rosa
URL:https://www.indybay.org/newsitems/2019/10/23/18827549.php
DTSTART:20191028T190000Z
DTEND:20191028T203000Z
END:VEVENT
END:VCALENDAR
