BEGIN:VCALENDAR
VERSION:2.0
X-WR-CALNAME:www.indybay.org
PRODID:-//indybay/ical// v1.0//EN
BEGIN:VEVENT
UID:Indybay-18826646
SEQUENCE:18975789
CREATED:20190924T190900Z
DESCRIPTION:It has been more than 100 days since the beginning of our struggle to save 
 Hong Kong.  While there was an announcement of the extradition bill’s 
 anticipated withdrawal, the government has shown its true colors as an 
 oppressor.   Even though facing unprecedented police brutality and white 
 terrors, Hong Kong people are persisting, and we need to help our brothers 
 and sisters in Hong Kong through actions.\n \nThe movement is at a critical 
 juncture as the legislative process of the Hong Kong Human Rights and 
 Democracy Act, 5th Anniversary of Umbrella Movement, and the 70th 
 Anniversary of PRC are all coming up. We are going to hold a rally again at 
 2pm on 9/29 at the Civic Center Plaza to show our support to Hong Kong 
 people, and to raise the awareness of Hong Kong's situation and the Hong 
 Kong Human Right and Democracy Act to the general public.\n\nWe are honored 
 to have the following special guests speak at our event.\n\nMing Sing: 
 Associate Professor, Division of Social Science at The Hong Kong University 
 of Science and Technology\nAlex Chow: Student leader of the Umbrella 
 Movement\nAnonymous: Youth Protester at the Anti-Extradition Movement\n 
 https://www.indybay.org/newsitems/2019/09/24/18826646.php
SUMMARY:929 SF Stand with Hong Kong Rally
LOCATION:Civic Center Plaza\n335 McAllister St, San Francisco
URL:https://www.indybay.org/newsitems/2019/09/24/18826646.php
DTSTART:20190929T210000Z
DTEND:20190929T223000Z
END:VEVENT
END:VCALENDAR
