BEGIN:VCALENDAR
VERSION:2.0
X-WR-CALNAME:www.indybay.org
PRODID:-//indybay/ical// v1.0//EN
BEGIN:VEVENT
UID:Indybay-18826621
SEQUENCE:18975719
CREATED:20190923T171000Z
DESCRIPTION:Cultures Collide: Fluid Borders + Intercultural Exchange with author, 
 Richard C. Morais\n\nDate And Time: Mon, October 21, 2019 @ 6:00 PM – 
 8:00 PM \n\nLocation: Hostelling International USA\nFisherman's Wharf, 240 
 Fort Mason, San Francisco, CA 94123\n\nCost: $35, which includes a signed 
 copy of Richard C. Morais' new book, "The Man With No Borders" (Eventbrite 
 ticket link below)\n\nAll ticket proceeds will support Cultural Vistas’ 
 and HI USA’s efforts to expand access to immersive international learning 
 and travel opportunities through each organization’s need-based 
 scholarship 
 funds.\n_______________________________________________________________\nJoin 
 Cultural Vistas and Hostelling International USA for a special evening with 
 \nRichard C. Morais, the acclaimed author of the New York Times and 
 international bestseller \n"The Hundred-Foot Journey" and the 
 newly-released, "The Man With No Borders", exploring the complex issues 
 around diversity and the immense blessings and very real complexities that 
 occur when different cultures encounter each other.\n\nHow do we live with 
 this quickening mash-up of cultures that is the result of mass migration? 
 What precisely happens, on a personal and societal level, when an 
 individual makes their way from one corner of the globe to another in the 
 21st century? This is what Morais will be exploring as he walks through all 
 the issues – creative and destructive, individual and collective, 
 spiritual and mundane – that the human drive to migrate raises in the 
 world.\n\nThe talk will be followed by a community panel discussion and a 
 light reception. Guests will receive a signed copy of Morais' latest novel, 
 "The Man with No Borders", with their ticket purchase.\n\nLearn more about 
 the Cultural Vistas 
 Fellowship\nhttps://culturalvistas.org/programs/abroad/cultural-vistas-fellowship/\n\nLearn 
 more about HI USA's Explore the World Travel Scholarships 
 https://www.hiusa.org/programs/travel-scholarships/explore-the-world\n\nABOUT: 
 Richard C. Morais, American journalist and novelist\n\nRichard C. Morais is 
 best known as the author of the New York Times and international bestseller 
 "The Hundred-Foot Journey", a novel about an Indian chef in France that 
 sold in 35 territories worldwide. In 2014, Steven Spielberg and Oprah 
 Winfrey released "The Hundred-Foot Journey" as a film starring Helen Mirren 
 and Om Puri. Morais’ sophomore novel "Buddhaland Brooklyn" is about a 
 Japanese Buddhist priest building a temple in New York, and is currently in 
 development as a premium TV series with K&L Productions. His latest novel, 
 "The Man with No Borders", was released globally on September 1, by 
 Amazon’s literary imprint, Little A.\n\n 
 https://www.indybay.org/newsitems/2019/09/23/18826621.php
SUMMARY:Cultures Collide: Fluid Borders + Intercultural Exchange with author Richard C. Morais
LOCATION:Hostelling International USA, Fisherman's Wharf, 240 Fort Mason, San 
 Francisco, CA 94123
URL:https://www.indybay.org/newsitems/2019/09/23/18826621.php
DTSTART:20191022T010000Z
DTEND:20191022T030000Z
END:VEVENT
END:VCALENDAR
