BEGIN:VCALENDAR
VERSION:2.0
X-WR-CALNAME:www.indybay.org
PRODID:-//indybay/ical// v1.0//EN
BEGIN:VEVENT
UID:Indybay-18826599
SEQUENCE:18975679
CREATED:20190922T163700Z
DESCRIPTION:“Where do we go?” March to the West Berkeley Town Hall Meeting\n\nJoin 
 the unhoused residents of the Seabreeze and I-80/University encampments in 
 a march to the West Berkeley Homeless Town Hall Meeting. If you are housed, 
 please march with us in solidarity. \n\nObjective: This is a march to 
 demand an answer to the question: “Where do we go?” Homeless residents 
 at these encampments are tired of the constant harassment, citations, and 
 arrest. All want a clean and safe place to stay. They want a lawful place 
 to stay. Instead of harassment, they want an answer: “Where do we go?” 
 \n\nWhere: We will meet at the Seabreeze Market, 598 University Ave, 
 Berkeley, CA 94710\n\nWhen: We will gather at 1:30 p.m, Sunday, 9/22/19. We 
 will begin the march at 2 pm. \n\nRoute: Is approximately 1.9 miles. Exact 
 route TBA.   We will march to 999 Harrison Street, Berkeley\n\nWant to 
 Help: We need paper for signs, pens, water, food, rides back from the 
 meeting, rides to meetings, etc. We need a bullhorn too. \n\nBring: Please 
 bring signs, drums, etc. We will also make signs at the Seabreeze Market. 
 \n\n\n\n https://www.indybay.org/newsitems/2019/09/22/18826599.php
SUMMARY:Where do we go? - Berkeley Homeless & Supporters March
LOCATION:Seabreeze Market, 598 University Ave, Berkeley, CA 94710\nMarch to:\n999 
 Harrison Street, Berkeley
URL:https://www.indybay.org/newsitems/2019/09/22/18826599.php
DTSTART:20190922T203000Z
DTEND:20190923T003000Z
END:VEVENT
END:VCALENDAR
