BEGIN:VCALENDAR
VERSION:2.0
X-WR-CALNAME:www.indybay.org
PRODID:-//indybay/ical// v1.0//EN
BEGIN:VEVENT
UID:Indybay-18826540
SEQUENCE:18975590
CREATED:20190921T210500Z
DESCRIPTION:CLIMATE STRIKE ACTION WEEK: Nonviolent Direct Action (NVDA) Training in 
 Santa Cruz\n\nOrganizer: Extinction Rebellion Santa Cruz\n\nWhen; Sunday, 
 September 22, 2019 @ 1:00 PM – 5:00 PM \n\nWhere: El Rio Mobile Home 
 Park, 2120 N Pacific Ave, Santa Cruz 95060\n\nCost: Free, Donations 
 accepted\n\nThis training will help prepare you for the Climate Strike Sept 
 20 - 27th week of actions, and beyond!\n\nThis education is for people who 
 do not plan to get arrested AND for those who do plan to get arrested. 
 There are many necessary roles in a direct action for people who do and 
 don't plan to get arrested, and all of these roles will be covered in this 
 training.\n\nParking: no parking inside mobile home park, street parking 
 available\n\nPlease RSVP to Batya so that we know you are coming!\nEmail: 
 lchaim@jps.net\n\nThis event is part of Global Climate Strike Action Week, 
 Sept. 20 -27 in Santa Cruz. For additional actions and events go to the 
 Santa Cruz Climate Action Network site: https://scruzclimate.org/\n 
 https://www.indybay.org/newsitems/2019/09/21/18826540.php
SUMMARY:Climate Week: Nonviolent Direct Action Training in Santa Cruz
LOCATION:El Rio Mobile Home Park, 2120 N Pacific Ave, Santa Cruz, CA 95060-2706, 
 United States
URL:https://www.indybay.org/newsitems/2019/09/21/18826540.php
DTSTART:20190922T200000Z
DTEND:20190923T000000Z
END:VEVENT
END:VCALENDAR
