BEGIN:VCALENDAR
VERSION:2.0
X-WR-CALNAME:www.indybay.org
PRODID:-//indybay/ical// v1.0//EN
BEGIN:VEVENT
UID:Indybay-18826522
SEQUENCE:18975568
CREATED:20190921T165500Z
DESCRIPTION:CLIMATE ACTION WEEK: International Day of Peace at San Jose Peace & Justice 
 Center\n\nWhen: Saturday, September 21, 2019 at 12:00 PM – 5:00 PM 
 \n\nWhere: San Jose Peace and Justice Center, 48 South 7th St, San Jose, 
 California 95112\n\nTickets · Free - $20 
 donation\nhttps://www.eventbrite.com/e/2019-international-day-of-peace-tickets-72191812655?aff=efbeventtix\n\nJoin 
 us for International Day of Peace! This is an open house and fundraiser. We 
 will have a tabling fair, entertainment, food, and fun. Please RSVP so we 
 know how many people to expect and how much food to serve.  Please let us 
 know if your group is interested in attending and networking with us!\n\nA 
 solidarity donation is $20. We gratefully accept more and if you want us to 
 donate your ticket to a community member, please let us know. You can 
 message or email at coordinator@sanjosepeace.org.\n\nTabling groups will be 
 added as cosponsors of the event. Plus we will be making announcements on 
 those participating as we are able to. \n\nFeaturing:\n\nRaging Grannies 
 San Jose\nGreen Party of Santa Clara County CA\nWILPF San Jose\nSanta Clara 
 County Single Payer Health Care Coalition\nSouth Bay Jewish Voice for 
 Peace\nMalaya South Bay\nAnakbayan Silicon Valley\nSilicon Valley 
 Democratic Socialists of America\nThe Come Up\n 
 https://www.indybay.org/newsitems/2019/09/21/18826522.php
SUMMARY:Climate Week: International Day of Peace at San Jose Peace & Justice Center
LOCATION:San Jose Peace and Justice Center, 48 South 7th St, San Jose, California 
 95112\n
URL:https://www.indybay.org/newsitems/2019/09/21/18826522.php
DTSTART:20190921T190000Z
DTEND:20190922T000000Z
END:VEVENT
END:VCALENDAR
