BEGIN:VCALENDAR
VERSION:2.0
X-WR-CALNAME:www.indybay.org
PRODID:-//indybay/ical// v1.0//EN
BEGIN:VEVENT
UID:Indybay-18825941
SEQUENCE:18974637
CREATED:20190903T203100Z
DESCRIPTION: Keller-Williams, the real estate outfit, sponsors workshops that identify 
 and spell out how to become a landlord in the rotten-heinie ol' south 
 tradition of the slave plantation. Now let's get this right, 
 Keller-Williams merely rides the coat-tails we--you and I--provide so long 
 as we wrap ourselves in the mantle and ambition of private property in land 
 values. Keller wrote the book, but we provide the story.\n\nStill, it's 
 arresting to read in the Keller book on wealth accumulation (distributed 
 gratis at the Keller-Williams workshop I attended) that unearned income 
 will set you free. Yes, set you free the same way unearned income 
 accumulated by holding people against their will on particular land set 
 slave masters free.\n\nCome along on a FREE walking tour surveying San 
 Francisco social movement history that builds the case for perceiving the 
 privatization of the economic value of land/the earth as tantamount to 
 slavery. If you doubt this, consider that the high land values of the San 
 Francisco Bay Region, privatized, account for most of the transfer of a 
 huge amount of produced labor and business value to the mere owner of 
 land!\n\nWhat's your land rent? Multiply that times 90% of the Bay Region 
 population. Sabe?\n\nGet a grip on real estate economics and justice!\nFor 
 more event information: http://www.TheCommonsSF.org \n 
 https://www.indybay.org/newsitems/2019/09/03/18825941.php
SUMMARY:Real Estate and the Plantation: the walking tour
LOCATION:the American Youth Hostel (Hosteling International)\n312 Mason St.\nSan 
 Francisco\n(meet in the lobby)
URL:https://www.indybay.org/newsitems/2019/09/03/18825941.php
DTSTART:20190907T160000Z
DTEND:20190907T190000Z
END:VEVENT
END:VCALENDAR
