BEGIN:VCALENDAR
VERSION:2.0
X-WR-CALNAME:www.indybay.org
PRODID:-//indybay/ical// v1.0//EN
BEGIN:VEVENT
UID:Indybay-18825553
SEQUENCE:18974106
CREATED:20190820T030100Z
DESCRIPTION:Stop the DPH from displacing the mentally ill from the Behavioral Health 
 Center’s Adult Residential Facility and end outsourcing healthcare worker 
 jobs.\n\nOn Thursday August 22 at   12:30 there will be protest rally 
 against  the displacing of the mentally ill and outsourcing at SF General 
 Hospital Assisted Residential Facility. The DPH and London Breed are 
 closing 37 permanent housing beds. \nThe SEIU1021 and IFPTE local 21  rally 
 will  be held at the  SFGH Behavioral  Health Center at 887 Potrero St. 
 between 21st.  & Potrero at  12:30 PM.\n\nRally Thursday  August 
 \nhttps://seiu1021.good.do/arf/arf/?v=e2a1557e&fbclid=IwAR0HVgOgCUiG_sblFEMdEWSSeIi-S0mbCF2PXGJAupLA8BGxmMkSEROV7Wk\n\nStop 
 the SF Department of Public Health from displacing the mentally ill from 
 the Behavior Health Center’s Adult Residential Facility and outsourcing 
 healthcare worker jobs.\n\nThe SF Department of Public Health (SFDPH) is 
 displacing severely mentally ill residents that are permanently housed at 
 the Behavioral Health Center’s Adult Residential Facility (ARF) to make 
 way for a Homeless Navigation Center with temporary shelter beds. The DPH 
 administration sent a letter informing Behavior Health Care Workers that 
 the adult population will be shrinking by 41 beds to only 14 permanent 
 beds. In addition to residents being displaced, SFDPH administration is 
 also displacing city workers by outsourcing their work to an outside 
 non-profit.\n\nDon't displace the mentally ill from the Behavioral Health 
 Center's Adult Residential Facility\n535\nsignatures\nJoin public health 
 advocates, patients and staff to stop the displacement of the mentally ill 
 and the outsourcing of our jobs at Behavioral Health Center's Adult 
 Residental Facility at 887 Potrero in SF. Sign the petition 
 today.\nCurrently, the Adult Residentail Facility (ARF) houses SF’s most 
 vulnerable clients who have serious and persistent mental illnesses, and 
 cannot live independently. These clients cannot prepare their own food, do 
 their ...\n+\nDear Grant Colfax, MD. Director of SF DPH ,\nThe Behavioral 
 Health Center 's Adult Residential Facility (ARF) should not lose any beds. 
 The ARF should be filled to capacity. The ARF staff should be given 
 appropriate resources to continue to provide high-quality care and a loving 
 home-like environment to mentally ill residents\n 
 https://www.indybay.org/newsitems/2019/08/19/18825553.php
SUMMARY:SFGH Rally To Stop the DPH from displacing the mentally ill from Behavioral Health Center
LOCATION: SFGH Behavioral  Health Center at 887 Potrero St. between 21st.  & Potrero 
 at  12:30 PM.
URL:https://www.indybay.org/newsitems/2019/08/19/18825553.php
DTSTART:20190822T190000Z
DTEND:20190822T193000Z
END:VEVENT
END:VCALENDAR
