BEGIN:VCALENDAR
VERSION:2.0
X-WR-CALNAME:www.indybay.org
PRODID:-//indybay/ical// v1.0//EN
BEGIN:VEVENT
UID:Indybay-18825305
SEQUENCE:18973754
CREATED:20190809T031100Z
DESCRIPTION:How do you talk to children and teens about death? When children lose a 
 family member or friend, how do you comfort them? What words tell a child 
 that someone is dying or has died? When is the right age to start talking 
 to a child about the subject?\n\nJoin our experts who will share their 
 knowledge and experience about how to help children through the grieving 
 process.\n\nSpeakers: Patricia Murphy, co-founder and director and Andrea 
 Bass, therapist and associate director, Josie’s Place for Bereaved Youth 
 and Families; Dawn Gross, MD, Ph.D, Hospice & Palliative Medicine UCSF.\n 
 https://www.indybay.org/newsitems/2019/08/08/18825305.php
SUMMARY:Death and Dying: How to Talk with Children about Death
LOCATION:San Francisco Public Library, Main Library, Civic Center, 100 Larkin St. SF 
 CA 94102
URL:https://www.indybay.org/newsitems/2019/08/08/18825305.php
DTSTART:20190814T003000Z
DTEND:20190814T023000Z
END:VEVENT
END:VCALENDAR
