BEGIN:VCALENDAR
VERSION:2.0
X-WR-CALNAME:www.indybay.org
PRODID:-//indybay/ical// v1.0//EN
BEGIN:VEVENT
UID:Indybay-18825212
SEQUENCE:18973644
CREATED:20190805T050200Z
DESCRIPTION:MUSIC, DANCING, ARTS & CRAFTS, GREAT FOOD, DRINKS, AND FABULOUS ACTIVITIES 
 FOR THE ENTIRE FAMILY\n\nDate: Saturday, August 10, 2019\nTime: 10am - 
 3pm\nLocation: Downtown Berkeley Farmers' Market \nMartin Luther King Jr. 
 Civic Plaza \nGeneral Admission: FREE \nKids Zone: FREE\n\nLIVE MUSIC BY 10 
 PIECE SALSA BAND  \nGRAMMY AWARD WINNING PERCUSSIONIST\nChristian Pepin y 
 Su Orquesta Bembe \n\nFENIX DANCE HOSTING\nDancing Demonstrations and 
 lessons  \n"Dancing on the Plaza"\nProfessional Latin Dance 
 Performance\n\nD.J. "MAGIC" MIKE \n\nDANCE A VISION\nChildren's Dance 
 Performance\n \nFAMILY ACTIVITIES\n"Haute Trash" Selfie Booth \nSnap a 
 photo of yourself in recycled "Haute Couture" created by Haute Trash a 
 group of resourceful artists who produce runway fashion shows made from 
 society's trash to entertain, educate & empower others to think, reuse & 
 recycle.\n\nLEARNING AND ACTIVITIES HOSTED BY\nEast Bay Community Energy 
 \n\nECO KID'S ZONE\nFace Painting, Organic Bubble Making lead by 
 Environmental Youth Academy, Storytime and activities lead by Resilience 
 author Jessica Jane Robinson, Make Your Own Salsa Percussion Instrument, 
 Kid's Farmers' Market Treasure Hunt with prizes\n\nARTS/ CRAFTS\nEnjoy 
 browsing the wares of local arts & crafts vendors \n\nBEER - WINE - MOJITOS 
 - ORGANIC & SUSTAINABLE\nDE NOVO WINERY\nCALICRAFT BREWERY \n \nFOOD DEMOS 
 & SAMPLING - Locally sourced and organic\n10am-12pm - Kitchen on Fire 
 Cooking School  \n1pm-3pm Collective Kitchen & Bar \n \nFEATURED FOOD FROM 
 OUR FARMERS MARKETS VENDORS\nCafe Zambala - Desta Ethiopian - La Oaxaquena 
 - \nANDY & CINDY'S THAI GOOD - Tony's Kettle Corn & Crepes - \nDaniel's 
 Caribbean Kitchen - Big Little Bowl Soups, Himalayan, Ethiopian, Sambusas, 
 Tamales, Tacos, Pupusas, Quesadillas, Thai Curries, Egg Rolls, Crepes, 
 Caribbean, Roti Wraps, Organic, Vegan Soups\n\nFree\n 
 https://www.indybay.org/newsitems/2019/08/04/18825212.php
SUMMARY:Salsa Festival
LOCATION:Martin Luther King Jr Civic Center Park\n2151 Martin Luther King Jr 
 Way\nBerkeley, CA 94702
URL:https://www.indybay.org/newsitems/2019/08/04/18825212.php
DTSTART:20190810T170000Z
DTEND:20190810T220000Z
END:VEVENT
END:VCALENDAR
