BEGIN:VCALENDAR
VERSION:2.0
X-WR-CALNAME:www.indybay.org
PRODID:-//indybay/ical// v1.0//EN
BEGIN:VEVENT
UID:Indybay-18824461
SEQUENCE:18972515
CREATED:20190705T222400Z
DESCRIPTION:Plan for August 3rd, 2019\n2020 Flotilla to Gaza\nSan Francisco Educational 
 Outreach\n\n1:00 pm\nMeet at the Main Terminal behind the Ferry building at 
 the foot of Market Street at The Embarcadero in San Francisco.  
 http://goldengatetransit.org/services/documents/Map_SFFerry.pdf 
 \n\nDistribute flyers to people waiting for the ferry.\nCatch the 1:25 pm 
 ferry, arriving in Sausalito at 1:55.\nDistribute flyers and stand at the 
 four corners (at least) of the ferry boat with five (3 x 5’) Palestinian 
 Flags and a two Pink PEACE flags (upper deck?).  \n\nEnjoy Sausalito, photo 
 ops with flags, signs, banners, …  At 3:00 we’ll hold a Vigil (four of 
 us dressed in black with white masks and FREE GAZA letters). Some of us 
 will distribute flyers in Sausalito before boarding the 3:50 Ferry, and 
 arrive in San Francisco at 4:20. If we have any flyers left, we’ll 
 distribute them at the Ferry Building when we return.\n\nParticipants could 
 join us on the ferry one way, both ways, or on land at either end.  \nSee 
 the Ferry Schedule here:  
 \nhttp://goldengateferry.org/schedules/Sausalito.php\nIt would be nice to 
 have some folks on land at each end, to photograph the ferry departing 
 and/or arriving.  And of course, we would encourage participants, both 
 individuals and organizations, to be creative in their attire and bring 
 signs/props in support of GAZA and the 2020 Flotilla.\n\nSEE: 
 www.USBoatsToGaza.org\n\nEVENT PAGE FOR RSVP'S:  
 https://www.codepink.org/august_3_sf_gaza_flotilla\n\nFACEBOOK EVENT:  
 https://www.facebook.com/events/2325679804373009/\n\n 
 https://www.indybay.org/newsitems/2019/07/05/18824461.php
SUMMARY:San Francisco Educational Outreach for the 2020 Flotilla to Gaza
LOCATION:Ferry terminal in SF (at Market and the Embarcadero, behind the Ferry 
 Building), and/or the ferry to Sausalito, and/or the ferry terminal in 
 Sausalito
URL:https://www.indybay.org/newsitems/2019/07/05/18824461.php
DTSTART:20190803T200000Z
DTEND:20190804T000000Z
END:VEVENT
END:VCALENDAR
