BEGIN:VCALENDAR
VERSION:2.0
X-WR-CALNAME:www.indybay.org
PRODID:-//indybay/ical// v1.0//EN
BEGIN:VEVENT
UID:Indybay-18824371
SEQUENCE:18972704
CREATED:20190703T030300Z
DESCRIPTION:Our Mission: FREEDOM.\nLights for Liberty: 
 https://www.lightsforliberty.org/\n\nWe are a coalition of people, many of 
 whom are mothers, dedicated to human rights, and the fundamental principle 
 behind democracy that all human beings have a right to life, liberty and 
 dignity.\n\nWe are partnering with national, regional and local communities 
 and organizations who believe that these fundamental rights are not 
 negotiable and are willing to protect them.\n\nOn Friday July 12th, 2019, 
 Lights for Liberty: A Vigil to End Human Detention Camps, will bring 
 thousands of Americans to detention camps across the country, into the 
 streets and into their own front yards, to protest the inhumane conditions 
 faced by refugees.\n\nMeeting in San Francisco's Market Street at the 
 Powell St. Cable Turnaround, San Francisco can join other cities across the 
 country in this effort.\n\n“GIVE ME YOUR TIRED, YOUR POOR, YOUR HUDDLED 
 MASSES YEARNING TO BREATHE FREE.” - Inscription on the Statue of 
 Liberty\n https://www.indybay.org/newsitems/2019/07/02/18824371.php
SUMMARY:Lights For Liberty: San Francisco
LOCATION:Powell Street Cable Turnaround, San Francisco
URL:https://www.indybay.org/newsitems/2019/07/02/18824371.php
DTSTART:20190713T020000Z
DTEND:20190713T050000Z
END:VEVENT
END:VCALENDAR
