BEGIN:VCALENDAR
VERSION:2.0
X-WR-CALNAME:www.indybay.org
PRODID:-//indybay/ical// v1.0//EN
BEGIN:VEVENT
UID:Indybay-18824157
SEQUENCE:18972046
CREATED:20190621T135600Z
DESCRIPTION:Freedom Isn’t Free\nFilmWorks United International Working Class Film & 
 Video Festival\n\nFreedom Isn’t Free – 2018 (104 min.) by Martin 
 Jansen, Workers’ World Media Productions (S. Africa)\n\nThe promise of 
 the fight for a free South Africa and against the apartheid regime was 
 partly contained in the Freedom Charter. This film looks at what happened 
 to the promise and how the fight for equality and full human rights were 
 subverted by a government that bowed down to the IMF and World Bank. It 
 looks at the privatization of transportation and other industries as well 
 as the deregulation of labor, which has further destroyed the living 
 conditions of the masses of South African workers.\nFollowing this film 
 there will be a 
 discussion.\n\nhttps://laborfest.net/event/freedom-isnt-free-2018/\n 
 https://www.indybay.org/newsitems/2019/06/21/18824157.php
SUMMARY:Laborfest: Film: Freedom Isn’t Free
LOCATION:518 Valencia, San Francisco, 16th St BART
URL:https://www.indybay.org/newsitems/2019/06/21/18824157.php
DTSTART:20190729T020000Z
DTEND:20190729T040000Z
END:VEVENT
END:VCALENDAR
