BEGIN:VCALENDAR
VERSION:2.0
X-WR-CALNAME:www.indybay.org
PRODID:-//indybay/ical// v1.0//EN
BEGIN:VEVENT
UID:Indybay-18824035
SEQUENCE:18971902
CREATED:20190618T211300Z
DESCRIPTION:The film documents the life and campaigns of Miss Major Griffin Gracy, a 
 veteran of the Stonewall Rebellion and lifelong fighter for transgender 
 rights and against the prison industrial complex. \n\nView the trailer: 
 https://www.missmajorfilm.com/press.html\n\nFacebook event: 
 https://www.facebook.com/events/431555140998643/\n 
 https://www.indybay.org/newsitems/2019/06/18/18824035.php
SUMMARY:Film Showing of "MAJOR!" in celebration of Pride Month
LOCATION:2969 Mission St., near 26th St. 
URL:https://www.indybay.org/newsitems/2019/06/18/18824035.php
DTSTART:20190627T020000Z
DTEND:20190627T040000Z
END:VEVENT
END:VCALENDAR
