BEGIN:VCALENDAR
VERSION:2.0
X-WR-CALNAME:www.indybay.org
PRODID:-//indybay/ical// v1.0//EN
BEGIN:VEVENT
UID:Indybay-18823060
SEQUENCE:18970448
CREATED:20190501T174100Z
DESCRIPTION:The substance of May Day--the Labor-related May Day, that is--is 
 celebrating the struggle to gain and keep fair wages.\n\nIt's easy to 
 forget that self-determined work and full reward for work exerted is the 
 objective, not life as an employee at the highest wages one can wrangle 
 from the boss.\n\nCome along on a walking tour that explores the 
 fundamental relationship between access to land and full wages. It's free, 
 except for its explosion of your suppositions that "land is not so 
 important as capital" and that "wages are driven down by 
 capitalists."\n\nThe walk explores San Francisco social movement history in 
 order to reveal the role the privatization of land values denies both 
 self-employed and employed workers getting their full reward.\n\nFor more 
 info:  www.TheCommonsSF.org\n 
 https://www.indybay.org/newsitems/2019/05/01/18823060.php
SUMMARY:High wages = access to land: The Walking Tour
LOCATION:American Youth Hostel\n312 Mason St.\nSan Francisco\n(meet in the lobby)
URL:https://www.indybay.org/newsitems/2019/05/01/18823060.php
DTSTART:20190504T160000Z
DTEND:20190504T190000Z
END:VEVENT
END:VCALENDAR
