BEGIN:VCALENDAR
VERSION:2.0
X-WR-CALNAME:www.indybay.org
PRODID:-//indybay/ical// v1.0//EN
BEGIN:VEVENT
UID:Indybay-18823
SEQUENCE:18823
CREATED:20040203T182400Z
DESCRIPTION:A screening of the compilation video of the latest anti-war actions in the 
 bay area and more...\nTickets available at box office.                 \n 
 https://www.indybay.org/newsitems/2004/02/03/18823.php
SUMMARY:"Shut Down Downtown Fogtown" - Video of the latest anti-war actions
LOCATION:@ The Roxie Theater,  3117 16th St. (16th @ Valencia), San Francisco        
          
URL:https://www.indybay.org/newsitems/2004/02/03/18823.php
DTSTART:20030420T190000Z
DTEND:20030420T220000Z
END:VEVENT
END:VCALENDAR
