BEGIN:VCALENDAR
VERSION:2.0
X-WR-CALNAME:www.indybay.org
PRODID:-//indybay/ical// v1.0//EN
BEGIN:VEVENT
UID:Indybay-18822624
SEQUENCE:18969830
CREATED:20190408T230200Z
DESCRIPTION:Recent years have seen important fights - and important wins - in the 
 struggle to dismantle the prison system in California. From repealing 
 sentence enhancements, to shutting down jail expansion plans, to working to 
 restore voting rights to folks on parole.\n\nCome hear from four incredible 
 movement leaders at the frontline of these struggles about victories, 
 strategies, and the importance of campaigns and coalitions in the 
 continuing movement to dismantle the Prison Industrial Complex. Their 
 stories will highlight the small and big ways you can also contribute to 
 creating a more progressive vision of justice than mass 
 incarceration.\n\nFeaturing:\nSandra Johnson, Senior Organizer, Legal 
 Services for Prisoners with Children (LSPC)/ All of Us or None 
 (AOUON)\nEric Henderson, Policy Director, Initiate Justice\nIvette Alé & 
 Amber-Rose Howard, Statewide Coordinators, Californians United for a 
 Responsible Budget (CURB)\n\nAll proceeds from this event will go to 
 LSPC/AOUON, Initiate Justice, and CURB, with specific focus on supporting 
 this year's Quest for Democracy Day, an annual advocacy and rally day led 
 by formerly incarcerated people and families with incarcerated loved ones 
 to bring their voices to elected officials in Sacramento. No one turned 
 away for lack of funds.\n 
 https://www.indybay.org/newsitems/2019/04/08/18822624.php
SUMMARY:When We Fight We Win: Building Community Power to Dismantle the Prison System
LOCATION:First Congregational Church of Oakland, 2501 Harrison Street, Oakland, CA 
 94612
URL:https://www.indybay.org/newsitems/2019/04/08/18822624.php
DTSTART:20190503T020000Z
DTEND:20190503T040000Z
END:VEVENT
END:VCALENDAR
