BEGIN:VCALENDAR
VERSION:2.0
X-WR-CALNAME:www.indybay.org
PRODID:-//indybay/ical// v1.0//EN
BEGIN:VEVENT
UID:Indybay-18822586
SEQUENCE:18969755
CREATED:20190406T165300Z
DESCRIPTION:Sunday Morning at the Marxist Library\n\nReading Capital \n\nWe are 
 continuing our reading of Marx’s Capital, reading paragraph by paragraph 
 from the Penguin edition (1967). We started at the beginning of Chapter 1: 
 The Commodity, on p. 125. So far, we’ve reached p. 171. in (4) “The 
 Fetishism of the Commodity and Its Secret.”\n\nSun, Jan 6, 2019 – 
 10:30am-12:30pm\n6501 Telegraph Ave, Oakland (just North of Alcatraz 
 Ave.)\n\nSeating is limited, so plan to come early. We start 
 promptly.\nFREE - but hat will be passed for donations to NPML\n\nAbout 
 Sunday Morning at the Marxist Library\nA weekly discussion series inspired 
 by our respect for the work of Karl Marx and our belief that his work will 
 remain as important for the class struggles of the future as they have been 
 for the past. \n\nFor info or to subscribe to our weekly announcements, 
 \nCall Gene Ruyle at 510-332-3865 or email: cuyleruyle@mac.com\nFor our 
 full schedule, go to icssmarx.org \nLabor donated by ICSS volunteers\n 
 https://www.indybay.org/newsitems/2019/04/06/18822586.php
SUMMARY:Reading Capital 
LOCATION:NPML, 6501 Telegraph Ave, Oakland (just North of Alcatraz Ave.)
URL:https://www.indybay.org/newsitems/2019/04/06/18822586.php
DTSTART:20190407T173000Z
DTEND:20190407T193000Z
END:VEVENT
END:VCALENDAR
