BEGIN:VCALENDAR
VERSION:2.0
X-WR-CALNAME:www.indybay.org
PRODID:-//indybay/ical// v1.0//EN
BEGIN:VEVENT
UID:Indybay-18822490
SEQUENCE:18969621
CREATED:20190402T162700Z
DESCRIPTION:#ReleaseTheReport: Rapid Response Rallies in CA & Across the 
 Nation\n\nWhen: Thursday, April 4th (times vary according to 
 location)\n\nWhere: Throughout the San Francisco Bay Area, State of 
 California, and the USA\n\nHosts: MoveOn.org & others\n\nWe are calling for 
 a National Day of Action on Thursday, April 4, to demand that Attorney 
 General William Barr #ReleaseTheReport if he fails to meet the deadline set 
 by Congressional leaders of Tuesday, April 2.  Barr has offered an 
 alternate timeline for a redacted version of the report—but we deserve 
 the full report and Congressional leaders and the American people expect it 
 now. .\n\nIf you do not see the local event you expected on this map, 
 please search for other events near you—or return to this site as more 
 actions will also come online up until Thursday.\n\nNote: A core principle 
 shared by supporting organizations is a commitment to nonviolent, peaceful 
 actions.  All actions that are sponsored or organized on this page are 
 intended to be nonviolent and peaceful. We expect all participants to act 
 lawfully at all times and to seek to de-escalate any potential 
 confrontation with those that disagree with our values.\n\nFind an event 
 near you and RSVP to join the local action (link below).\n 
 https://www.indybay.org/newsitems/2019/04/02/18822490.php
SUMMARY:Release the Mueller Report! Rapid Response Rallies in CA & Across the Nation
LOCATION:Rallies throughout CA & the United States\n\nUse link to find a rally near 
 you:  
 https://act.moveon.org/event/mueller-firing-rapid-response-events/search/
URL:https://www.indybay.org/newsitems/2019/04/02/18822490.php
DTSTART:20190404T080000Z
DTEND:20190404T080000Z
END:VEVENT
END:VCALENDAR
