BEGIN:VCALENDAR
VERSION:2.0
X-WR-CALNAME:www.indybay.org
PRODID:-//indybay/ical// v1.0//EN
BEGIN:VEVENT
UID:Indybay-18822279
SEQUENCE:18969252
CREATED:20190326T214500Z
DESCRIPTION:In The Atlas of Reds and Blues, an American born daughter of Bengali 
 immigrants moves her family to a suburb of Atlanta. What happens there 
 bears witness to American racism and abuse of power, tracing one woman's 
 shift from acquiescence to resistance.\n\nThe Atlas of Reds and Blues is as 
 narratively beautiful as it is brutal.... Laskar creates a world where the 
 consequences of American terror never stop reverberating...I've never read 
 a novel that does nearly as much in so few pages. Laskar has changed how we 
 will all write about state-sanctioned terror in this nation."\n    -Kiese 
 Laymon, author of Heavy\n 
 https://www.indybay.org/newsitems/2019/03/26/18822279.php
SUMMARY:Devi Laskar, author of The Atlas of Reds and Blues
LOCATION:Revolution Books, 2444 Durant Ave. Berkeley CA 94704
URL:https://www.indybay.org/newsitems/2019/03/26/18822279.php
DTSTART:20190405T020000Z
DTEND:20190405T040000Z
END:VEVENT
END:VCALENDAR
