BEGIN:VCALENDAR
VERSION:2.0
X-WR-CALNAME:www.indybay.org
PRODID:-//indybay/ical// v1.0//EN
BEGIN:VEVENT
UID:Indybay-18822100
SEQUENCE:18968937
CREATED:20190320T171800Z
DESCRIPTION:The Radical Zine Reading and Art Show Night\n\nCome and listen to the 
 contributors showcased on our last issue (Vol. 2 “Fight poverty, not the 
 poor”) read their work and talk about what inspired them. The new edition 
 is out and we’re feeling so proud and stoked that we just had to 
 celebrate and honor our brave and talented collaborators.\n\nWe’ll also 
 have LIVE MUSIC (a special guest from UCSC), an Open Mic (yes, that’s for 
 you…) and some art prints exhibitions of local artists showing their 
 work. It will be a festive night to connect and build community among 
 artists and passionate citizens. Join us! Bring your friends, colleagues, 
 families, subversive ideas, wildest dreams, hopes for the 
 future…\n\nEntrance: For free.\n\nWhat else: we’ll have zines and pins 
 for everyone. We’ll do a live broadcast and photo coverage of this 
 amazing event.\n\n*If YOU are a local artist and you would like to use this 
 opportunity to share your work (show your prints or craft, sing, read your 
 work, etc.), please reach out to us so we can coordinate ahead of time. You 
 can message us on Facebook - 
 https://www.facebook.com/events/559281474583933/ or email us at 
 bernardita.garcia.j@gmail.com\n 
 https://www.indybay.org/newsitems/2019/03/20/18822100.php
SUMMARY:The Radical Zine Reading and Art Show Night
LOCATION:Resource Center for Nonviolence, 612 Ocean Street, Santa Cruz, CA 95060
URL:https://www.indybay.org/newsitems/2019/03/20/18822100.php
DTSTART:20190406T010000Z
DTEND:20190406T030000Z
END:VEVENT
END:VCALENDAR
