BEGIN:VCALENDAR
VERSION:2.0
X-WR-CALNAME:www.indybay.org
PRODID:-//indybay/ical// v1.0//EN
BEGIN:VEVENT
UID:Indybay-18822013
SEQUENCE:18968809
CREATED:20190317T182400Z
DESCRIPTION:?? ??? ???? ????? ??????? ????????????\n?? ?????????? ???? ??? ???????? & 
 ??????? ?? ??? ???????\n\nAs we mourn the loss of life in New Zealand, 
 let’s honor their lives by expanding, connecting and defending our 
 movements. Join us Monday evening for community vigil against Islamophobia 
 to express solidarity with our brothers and sisters in New Zealand, and all 
 those targeted by white nationalism.\n??????, ????? ????\n?:?? ??\n???? 
 ??????? ????????????\n???? ??????? ???? (??????? ???? ?????? ??? ??? 
 ???.)\n???????, ?? ?????\n????? ?? ???? ??????? ???? 
 ???????.\n[Facebook]\n\nTo endorse or for more information please 
 contact:\n????@??????????????.???\n\n-------------------------------------\n\n???? 
 ?? ??? ???????? ?? ??? ???????\n\nAs Arabs and Muslims, we are deeply 
 saddened and disturbed by the news of the murder of 49 people in two New 
 Zealand mosques. We are outraged that white supremacist violence continues 
 to take the lives of so many.\n\nToday is a truly difficult day, situated 
 amid truly difficult conditions. Despite the shock we might feel along with 
 our feelings of grief, we know this is not senseless violence. These acts 
 of hatred and destruction at the hands of vigilantes are a logical outcome 
 of the racism, xenophobia, misogyny, Islamophobia, and white supremacy 
 promoted and sanctioned by right-wing movements and governments. The attack 
 on the Al Noor Mosque and the Linwood Islamic Centre in Christchurch is 
 driven by a white nationalism that fuels attacks on mosques, Black 
 churches, and synagogues, and the heightened assault on migrants here in 
 the US. And it is this same white nationalism expressed in the Trump 
 Administration, its Muslim ban, the disgraceful bipartisan Islamophobic 
 attacks on Congresswoman Ilhan Omar, and the forced separation of families 
 at the border.\n\nOur collective defense is the deepest and most unwavering 
 form of solidarity. It is imperative that we continue building movements 
 that are prepared to defend and protect one another against all odds. 
 History, and our own recent past, have shown that when we come together to 
 protect and defend one another, we build a strength that is in fact able to 
 contend with some of the most impossible of circumstances. It is also 
 imperative that we build a united front to confront and topple right wing 
 authoritarian movements and regimes across the world--whether it be Trump, 
 Bolsonaro, Marquez, Duterte, Netanyahu, or Modi—and build our power to 
 end violence, militarism, and war where we live, and globally.\n\n?? ?? 
 ????? ??? ???? ?? ???? ?? ??? ???????, ???’? ????? ????? ????? ?? 
 ?????????, ?????????? ??? ????????? ??? ????????? ?? ????? ? ????? ????? 
 ??? ?????? ??? ????????? ???? ?????????? ???????? ??? ??? ???? ???? ??????? 
 ??? ????-?????????????.\n 
 https://www.indybay.org/newsitems/2019/03/17/18822013.php
SUMMARY:Bay Area Vigil Against Islamophobia — Oakland
LOCATION:???? ??????? ????????????\n???? ??????? ???? (??????? ???? ?????? ??? ??? 
 ???.)\n???????, ?? ?????
URL:https://www.indybay.org/newsitems/2019/03/17/18822013.php
DTSTART:20190319T013000Z
DTEND:20190319T033000Z
END:VEVENT
END:VCALENDAR
