BEGIN:VCALENDAR
VERSION:2.0
X-WR-CALNAME:www.indybay.org
PRODID:-//indybay/ical// v1.0//EN
BEGIN:VEVENT
UID:Indybay-18822012
SEQUENCE:18968805
CREATED:20190317T172100Z
DESCRIPTION:Speakers: Angela Davis, Alice Walker, Pam Africa, Judith Ritter, Jeff 
 Mackler, and Mumia Abu-Jamal via phone \n\n 
 https://www.indybay.org/newsitems/2019/03/17/18822012.php
SUMMARY:Mumia Abu-Jamal: An Evening for Justice and Freedom
LOCATION:St. John's Presbyterian Church, 2727 College Ave at Garber in  Berkeley 
URL:https://www.indybay.org/newsitems/2019/03/17/18822012.php
DTSTART:20190407T020000Z
DTEND:20190407T040000Z
END:VEVENT
END:VCALENDAR
