BEGIN:VCALENDAR
VERSION:2.0
X-WR-CALNAME:www.indybay.org
PRODID:-//indybay/ical// v1.0//EN
BEGIN:VEVENT
UID:Indybay-18821853
SEQUENCE:18968490
CREATED:20190311T234600Z
DESCRIPTION:Berkeley residents will be marching to Berkeley City Hall, opposing the 
 Berkeley RV ban and holding a vigil for all the poor and unhoused Bay Area 
 residents being told to leave town.\n\nOn Feb. 28, Berkeley City Council 
 voted for a proposal that bans vehicle dwellers from the streets. 78 
 speakers spoke for two hours  calling for action to clean Berkeley's 
 streets and give vehicular residents a place to go. Despite all the calls 
 for humane treatment, Council voted poor people out of the city. "No house 
 car or camper for human habitation will be allowed within the City 
 limits."\n\nThe proposal also changes city code to make it illegal to park 
 any RV, motor home or "house car" on the street between the hours of 2:00 
 AM and 5:00 AM.  "House cars" "do not need to contain any plumbing or 
 cooking facilities."\n\nWe invite you to march for humane treatment of the 
 poor and unhoused, for alternative housing and self-determination.\n 
 https://www.indybay.org/newsitems/2019/03/11/18821853.php
SUMMARY:Protest the Berkeley RV Ban
LOCATION:Start at People's Park\nBerkeley
URL:https://www.indybay.org/newsitems/2019/03/11/18821853.php
DTSTART:20190321T230000Z
DTEND:20190322T010000Z
END:VEVENT
END:VCALENDAR
