BEGIN:VCALENDAR
VERSION:2.0
X-WR-CALNAME:www.indybay.org
PRODID:-//indybay/ical// v1.0//EN
BEGIN:VEVENT
UID:Indybay-18821417
SEQUENCE:18967709
CREATED:20190224T232200Z
DESCRIPTION:The theme this year is “Balance for Better…” which focuses on 
 building a gender-balanced world and community.  We will bring many 
 speakers from diversified backgrounds and professions.  Our keynote speaker 
 is, Cabrillo College’s own, Shirley Flores-Munoz Ph.D.\n\nWomen have 
 contributed to our history and will continue to lead in the future of our 
 city, county, and country.  It’s time to recognize and promote 
 inclusivity and equality for a gender-balanced world.\n\nThis event will 
 coincide with Watsonville’s weekly Farmer’s Market 
 (https://www.facebook.com/Watsonville-Farmers-Market-166738703417320/)  so 
 come out celebrate, and support the food and retail vendors.\n\nThank you, 
 sponsors: Community Action Board, Pajaro Valley Cesar Chavez Democratic 
 Club, Jenny Sarmiento, Doreen Martinez, Jaclyn Martinez, Rachel Williams, 
 Jenni Veitch-Olsen, Olga 
 Fuentes\n\nhttps://www.internationalwomensday.com\n 
 https://www.indybay.org/newsitems/2019/02/24/18821417.php
SUMMARY:International Women's Day - Watsonville
LOCATION:Watsonville Plaza, Main Street, Watsonville
URL:https://www.indybay.org/newsitems/2019/02/24/18821417.php
DTSTART:20190309T000000Z
DTEND:20190309T020000Z
END:VEVENT
END:VCALENDAR
