BEGIN:VCALENDAR
VERSION:2.0
X-WR-CALNAME:www.indybay.org
PRODID:-//indybay/ical// v1.0//EN
BEGIN:VEVENT
UID:Indybay-18820840
SEQUENCE:18966734
CREATED:20190127T034300Z
DESCRIPTION:Level 2 \n\nHands-on workshop teaches how to understand and set up complex 
 sound systems, troubleshooting, and sound for video.\n\nPerhaps the most 
 difficult aspect of videography is obtaining excellent sound quality. This 
 workshop will also help you get the best sound quality 
 possible.\n\nInstructor: Sharat Lin. \n\nEach class is limited to 6 
 participants. Open to the public \n\nRSVP to sharatlin [at] 
 sanjosepeace.org to confirm attendance. \n\nFor accessibility elements, 
 please go to: Collins House Accessibility 
 https://sanjosepeace.wordpress.com/2019/01/16/collins-house-accessibility/ 
 \n\nSponsored by the San José Peace and Justice Center \n 
 https://www.indybay.org/newsitems/2019/01/26/18820840.php
SUMMARY:Skills for Activists: How to Use Sound Systems - Level 2
LOCATION:San José Peace and Justice Center\n48 South 7th Street\nSan José, CA  
 95112\n\nBus routes: 22, 522, 23, 11, 63, 64, 72, 73, 81, Hwy 17 Exp, MST 
 55, Dash, LRT, 181\n
URL:https://www.indybay.org/newsitems/2019/01/26/18820840.php
DTSTART:20190217T001500Z
DTEND:20190217T014500Z
END:VEVENT
END:VCALENDAR
