BEGIN:VCALENDAR
VERSION:2.0
X-WR-CALNAME:www.indybay.org
PRODID:-//indybay/ical// v1.0//EN
BEGIN:VEVENT
UID:Indybay-18820642
SEQUENCE:18966427
CREATED:20190124T000700Z
DESCRIPTION:"Allied Agendas for Troubling Times: A Talk, a Panel & Songs," \nfeaturing 
 Jewish labor historian Tony Michels on “Socialism and Jews at a 
 Crossroads: Learning from the ‘40s”; klezmer singer Jeanette Lewicki; 
 group singing in English and other languages; Gayle McLaughlin on 
 “Unified People Power”; and Bay Area activists from:\n-- Bend the Arc, 
 \n-- California Labor Federation, \n-- California Progressive Alliance, 
 \n-- Council on American-Islamic Relations, \n-- Ella Baker Center for 
 Human Rights, and \n-- the National Network for Immigrant and Refugee 
 Rights.\n\nSponsored by Workmen's Circle/ Arbeter Ring of Northern 
 California. FREE admission, reservations recommended at 
 \nhttps://www.facebook.com/workmenscirclenorcal/ or by email, 
 dmscott01@yahoo.com .\n\n 
 https://www.indybay.org/newsitems/2019/01/23/18820642.php
SUMMARY:"Allied Agendas for Troubling Times - A Talk, a Panel & Songs
LOCATION:SF Public Library - Civic Center (BART & MUNI stop)\nLatino Meeting Room
URL:https://www.indybay.org/newsitems/2019/01/23/18820642.php
DTSTART:20190203T213000Z
DTEND:20190204T003000Z
END:VEVENT
END:VCALENDAR
