BEGIN:VCALENDAR
VERSION:2.0
X-WR-CALNAME:www.indybay.org
PRODID:-//indybay/ical// v1.0//EN
BEGIN:VEVENT
UID:Indybay-18820638
SEQUENCE:18966431
CREATED:20190123T231700Z
DESCRIPTION:Join the Santa Cruz County Poor People's Campaign for our Poor People's 
 Town Hall in Live Oak, February 14th, 2019.\n\nConfirmed panelist: It's Our 
 Home will speak about the Wisdom Council. End Solitary Santa Cruz County 
 (More panelists yet to be confirmed)\nCAR POOL SIGN 
 UP:https://doodle.com/poll/adbtentesshr5qgm\n\nThe Poor People's Town Hall 
 will take place each month in a different city within Santa Cruz County. 
 These events will be an opportunity for Poor People to come and connect 
 with the movement, sing together, struggle together, share food from a food 
 distribution, hear about the work that is being done in their areas to 
 address poverty and hear testimonies from poor people in their area about 
 their experiences and the need for change. \n\nCommunity members who attend 
 will also have the opportunity to ask questions, make comments and share 
 their own testimonies of being poor in Santa Cruz County. \n\nTo learn more 
 about the fundamental principles of the Poor People's Campaign, please 
 follow the link to the national website: 
 https://www.poorpeoplescampaign.org/fundamental-principles/ \n\nCheck out 
 the coverage we got in the Santa Cruz Sentinel: 
 http://www.santacruzsentinel.com/government-and-politics/20180623/poor-peoples-campaign-kicks-off-with-rally-in-santa-cruz 
 \n\nRegister your organization for a seat at the Pathfinder Table by 
 completing the registration process here: 
 https://docs.google.com/forms/d/e/1FAIpQLSdslySAaGuIk-ifapbd9hrn8E_lWmoE8n6_HBWpaCs9-fDfbw/viewform 
 \n\nRegister your personal or organizational email on the Santa Cruz County 
 Poor People's Campaign mailing list by following this link: 
 https://goo.gl/forms/gNv1km000jfInu8w1 \n\nWe are yet looking for a SPANISH 
 and AMERICAN SIGN LANGUAGE INTERPRETATION. Please contact us if you are 
 willing to interpret.\n\n----En Español ---- \n\nÚnase a la Campaña de 
 Pobres del Condado de Santa Cruz para nuestro primer Ayuntamiento de Pobres 
 en Aptos. \n\nEstos eventos serán una oportunidad para que los Pobres 
 vengan y se conecten con el movimiento, canten juntos, luchen juntos, 
 escuchen sobre el trabajo que se está haciendo en sus áreas para 
 enfrentar la pobreza y escuchen testimonios de personas pobres en su área 
 sobre sus experiencias y la necesidad de cambio \n\nLos miembros de la 
 comunidad que asistan a los eventos también tendrán la oportunidad de 
 hacer preguntas, hacer comentarios y compartir sus propios testimonios de 
 ser pobres en el condado de Aptos. \n\nPuede registrarse en español aquí: 
 https://goo.gl/forms/8Yf7zdbumLoAtXHJ2\n 
 https://www.indybay.org/newsitems/2019/01/23/18820638.php
SUMMARY:Poor People's Town Hall Live Oak
LOCATION:Community Resources Live Oak, 1740 17th Ave, Santa Cruz, CA 95062
URL:https://www.indybay.org/newsitems/2019/01/23/18820638.php
DTSTART:20190215T020000Z
DTEND:20190215T040000Z
END:VEVENT
END:VCALENDAR
