BEGIN:VCALENDAR
VERSION:2.0
X-WR-CALNAME:www.indybay.org
PRODID:-//indybay/ical// v1.0//EN
BEGIN:VEVENT
UID:Indybay-18820423
SEQUENCE:18967055
CREATED:20190117T050000Z
DESCRIPTION:San Francisco city workers are organizing against daily racist and sexist 
 harassment on the job, dangerous working environments, and abusive 
 conditions faced by long term at-will employees. This multi-racial panel 
 features city employees who are building a movement to end these practices 
 that endanger workers and the public alike. \n\nIn honor of Black History 
 Month, come learn about their organizing efforts and why uniting workers of 
 all colors to fight back together is the way to win changes for 
 all.\n\nSpeakers:\n\n- Brenda Barros, SEIU 1021 Chapter President, SF 
 General Hospital and member of SF General Equity Council and Erase 
 Racism.\n\n-  Lakisha Austin, co-founder of Strength in Numbers, 
 decade-long employee of SF Public Utilities Commission and SEIU 1021 
 member. Strength in Numbers is a worker-led group of Water Department 
 employees taking a stand against management abuse and bullying. SIN is 
 committed to dealing with health, safety, racism, sexism, and 
 contracting-out of public-sector jobs to private third-party employers with 
 personal connections to SFWD bosses.\n\n- Amy Gray-Schlink, Water 
 Department plumber, member of Strength in Numbers and the Freedom Socialist 
 Party.\n\nSaturday, February 23, 2019, 1:00 to 5:00 pm. Door donation 
 $3-5\nLunch served from 1:00-2:30 p.m. Donation $10\nProgram starts at 2:30 
 p.m.\n\nNew Valencia Hall, 747 Polk St (near Ellis), San Francisco\n(near 
 Civic Center BART, Muni Lines 19, 31, 38, 47, 49)\n\nWheelchair 
 accessible\n\nOnline RSVP: http://bit.ly/FSPBHM19\n\nFor information or 
 childcare: \n415-864-1278 · bafsp@earthlink.net · 
 www.tinyurl.com/FB-BAFSP\n 
 https://www.indybay.org/newsitems/2019/01/16/18820423.php
SUMMARY:Black History Month Forum: SF City Workers Rise Up Against Racism
LOCATION:New Valencia Hall\n747 Polk St. (near Ellis)\nSan Francisco
URL:https://www.indybay.org/newsitems/2019/01/16/18820423.php
DTSTART:20190223T210000Z
DTEND:20190224T010000Z
END:VEVENT
END:VCALENDAR
