BEGIN:VCALENDAR
VERSION:2.0
X-WR-CALNAME:www.indybay.org
PRODID:-//indybay/ical// v1.0//EN
BEGIN:VEVENT
UID:Indybay-18819611
SEQUENCE:18964395
CREATED:20181204T235600Z
DESCRIPTION:It’s the giving season, and if you’re like us, you’re looking for 
 ways to support the thousands of refugees seeking asylum at the US-Mexico 
 border. In times of humanitarian crisis, when government agencies fail to 
 take action, the people step up.\n\nCome out to Old Capitol Books with any 
 of the supplies needed at the border (listed below) OR $10. Direct Action 
 Monterey Network, Revolunas, and Watsonville Brown Berets will be traveling 
 to Tijuana on December 15, loaded with supplies and volunteers. Come join 
 us in strengthening the cause, enjoying an evening of music and community, 
 and supporting the work of local musicians and artists!\n\nFemmes & Folx is 
 a series of music concerts intended to feature underrepresented performers, 
 specifically women, trans folks, and people of color. Featuring bedrooms, 
 Chelsea Riddle, and River Navaille, full list of performers to be released 
 soon!\n\nSUPPLIES NEEDED:\nTents\nTarps\nBlankets\nSleeping bags\nSleeping 
 pads\nCanopies\nTowels\nWashcloths\nDiapers\nBaby wipes\nLip 
 balm\nUnderwear & socks (adults and children)\nWarm clothes\nLice 
 shampoo\nSoap\nShampoo\nToothpaste and 
 toothbrushes\nDeodorant\nRazors\nSanitary pads & tampons\nLarge pots & 
 pans\nReusable plates\nCoffee makers\nDish soap & sponges\nMultipurpose 
 cleaner\nClorox wet wipes\nMouth covers\nToilet paper\nArt 
 supplies\nBooks\n\nFOODS NEEDED:\nBaby food & 
 formula\nRice\nBeans\nLentils\nPasta\nTortillas\nChicken 
 broth\nSalt\nSugar\nSpices\nCondiments\nGround 
 coffee\nBread\nOatmeal\nCooking oil\nVinegar\nWATER\n 
 https://www.indybay.org/newsitems/2018/12/04/18819611.php
SUMMARY:Femmes & Folx Benefit Show for Tijuana Refugees
LOCATION:Old Capitol Books\n559 Tyler St, Monterey
URL:https://www.indybay.org/newsitems/2018/12/04/18819611.php
DTSTART:20181215T030000Z
DTEND:20181215T060000Z
END:VEVENT
END:VCALENDAR
