BEGIN:VCALENDAR
VERSION:2.0
X-WR-CALNAME:www.indybay.org
PRODID:-//indybay/ical// v1.0//EN
BEGIN:VEVENT
UID:Indybay-18819182
SEQUENCE:18963640
CREATED:20181116T011600Z
DESCRIPTION:Delegates from the San Francisco Committee on Human Rights in the 
 Philippines (SFCHRP) will report back from the Aeta community in Central 
 Luzon.\n\nThe New Clark City Project and Military Complex Development 
 threatens the land and livelihood of the Aeta people, the first inhabitants 
 of the Philippines. We want to share their stories and expose the 
 corruption of the Philippine government. We'll show some clips from the 
 Aeta documentary project.\n\nLong Live International Solidarity! Defend 
 Ancestral and Indigenous Lands!\n\nHosted by San Francisco Committee on 
 Human Rights in the Philippines\n\n 
 https://www.indybay.org/newsitems/2018/11/15/18819182.php
SUMMARY:SFCHRP Reportback on Philippine Indigenous Community
LOCATION:Bethany UMC\n1270 Sanchez St.
URL:https://www.indybay.org/newsitems/2018/11/15/18819182.php
DTSTART:20181118T000000Z
DTEND:20181118T020000Z
END:VEVENT
END:VCALENDAR
