BEGIN:VCALENDAR
VERSION:2.0
X-WR-CALNAME:www.indybay.org
PRODID:-//indybay/ical// v1.0//EN
BEGIN:VEVENT
UID:Indybay-18818899
SEQUENCE:18963089
CREATED:20181108T044400Z
DESCRIPTION:A talk by Sharat G. Lin\nwith the Raging Grannies and the Dance of 
 Peace\n\nPeople in Japan are more aware than most about nuclear weapons, 
 nuclear power, the risk of war, overseas U.S. military bases, and a 
 national commitment to pacifism. Sharat G. Lin, who delivered an apology 
 from the American people to the Japanese people for the atomic bombs 
 dropped on Hiroshima and Nagasaki, reports on the 73rd anniversary 
 commemorations.\n\nAll welcome\n\nJoin the Community Dinner at 6 pm at the 
 Peace Center. Program starts at 7 pm.\n\nInfo:  sanjosepeace.org  
 @sjpjc\n\nSponsored by WILPF San José Branch, San Jose Peace & Justice 
 Center, our developing world, Veterans for Peace Chapter 101, and Green 
 Party of Santa Clara County\n 
 https://www.indybay.org/newsitems/2018/11/07/18818899.php
SUMMARY:Hiroshima and Nagasaki: 73 Years after the Bombs
LOCATION:San José Peace and Justice Center\n48 South 7th Street \nSan José, CA 
 95112
URL:https://www.indybay.org/newsitems/2018/11/07/18818899.php
DTSTART:20181117T030000Z
DTEND:20181117T050000Z
END:VEVENT
END:VCALENDAR
