BEGIN:VCALENDAR
VERSION:2.0
X-WR-CALNAME:www.indybay.org
PRODID:-//indybay/ical// v1.0//EN
BEGIN:VEVENT
UID:Indybay-18818477
SEQUENCE:18962364
CREATED:20181025T051800Z
DESCRIPTION:Films to The People (FTP) short film festival gives a platform to 
 independent filmmakers whose work might not find a place in larger, 
 mainstream festivals. We like to showcase filmmakers of various ages, 
 genders, and ethnic backgrounds, and subject matter that is pertinent to 
 our times. We prefer to work with local filmmakers, but we have made 
 exceptions. Films are selected for quality and diversity of 
 perspectives.\n\nWe will screen 19 politically relevant films and discuss 
 local shorts with the directors.\n\nDoors open at 3pm, program starts at 
 4pm\n\nThere will be food, raffle and awards!\n\n\nTo attend the festival 
 for free, contact liberatedlens@omnicommons.org for volunteer 
 opportunities.\n\n 
 https://www.indybay.org/newsitems/2018/10/24/18818477.php
SUMMARY:Films to The People Film Festival
LOCATION:Omni Commons\n4799 Shattuck Ave\nOakland, CA
URL:https://www.indybay.org/newsitems/2018/10/24/18818477.php
DTSTART:20181111T000000Z
DTEND:20181111T040000Z
END:VEVENT
END:VCALENDAR
