BEGIN:VCALENDAR
VERSION:2.0
X-WR-CALNAME:www.indybay.org
PRODID:-//indybay/ical// v1.0//EN
BEGIN:VEVENT
UID:Indybay-18818391
SEQUENCE:18962235
CREATED:20181022T180300Z
DESCRIPTION:These are not “normal” times. For nearly two years, the Trump/Pence 
 regime has maneuvered through one shocking crime against the people after 
 another, burying each under yet another monstrous offense. Muslims banned. 
 Immigrant children languishing in concentration camps. White supremacy 
 riding high. Women and LGBTQ people slammed backwards. Threats of nuclear 
 war. Accelerated environmental destruction. A pro-fascist majority on the 
 Supreme Court.\n\nThis emergency will not – and cannot – be redressed 
 through the normal process of elections. But there IS a way to stop the 
 Trump/Pence regime. \n\nA determined struggle of the people that doesn’t 
 yield and won’t be provoked can create the kind of political crisis that 
 compels their removal from power. We are talking about massive protests 
 that don’t end after one day – but come back day after day after day, 
 growing to millions raising the demand: THIS NIGHTMARE MUST END: THE 
 TRUMP/PENCE REGIME MUST GO!\n 
 https://www.indybay.org/newsitems/2018/10/22/18818391.php
SUMMARY:We Refuse to Accept a Fascist America!
LOCATION:Embarcadero Plaza\nacross from Ferry Building\nSan Francisco
URL:https://www.indybay.org/newsitems/2018/10/22/18818391.php
DTSTART:20181110T210000Z
DTEND:20181110T223000Z
END:VEVENT
END:VCALENDAR
