BEGIN:VCALENDAR
VERSION:2.0
X-WR-CALNAME:www.indybay.org
PRODID:-//indybay/ical// v1.0//EN
BEGIN:VEVENT
UID:Indybay-18818246
SEQUENCE:18962019
CREATED:20181017T160300Z
DESCRIPTION:The Free Mumia Coalition Invites You To\nA Public Forum:\nGovernment 
 Repression, the National Prisoners Strike and the Case of Mumia 
 Abu-Jamal\n\nSpeakers:\n\nGloria La Riva, ANSWER Coalition\n\nYvette 
 Felarca, BAMN\n\nGerald Smith, Labor Action Committee To Free Mumia 
 Abu-Jamal, former Black Panther\n\nClarence Thomas, former Black Panther, 
 ILWU Local 10 Sec.-Treas. retired\n\nBilal MaMafundi Ali, - Southern 
 California Black Panther Party for Self-Defense, Coordinator Bay Area 
 National Prison Strike Solidarity Committee.\n\nModerators: Jack Heyman, 
 ILWU retired, Labor Action Committee, leading participant in port shutdowns 
 for Mumia, Oscar Grant, and to oppose the Iraq War,\n\nand Ras Ceylon, 
 Local Educator, Rapper & Organizer\n\nRecorded greetings:\nKevin Cooper, 
 innocent death row inmate at San Quentin. Kevin Cooper is the first in line 
 to face execution if/when the death penalty is reactivated in 
 California\n\nRecorded Commentary:\nMumia Abu-Jamal, political prisoner in 
 Pennsylvania, \nformer Black Panther, framed for a crime he did not 
 commit.\n\nOpen discussion will follow the speakers\n\nEndorsers: Labor 
 Action Committee To Free Mumia Abu-Jamal, ANSWER Coalition, Communist 
 Workers League, Oscar Grant Committee, BAMN, Socialist Viewpoint, Oakland 
 Teachers for Mumia\n\nThis space is wheelchair accessible.\n 
 https://www.indybay.org/newsitems/2018/10/17/18818246.php
SUMMARY:Government Repression, the National Prisoners Strike and the Case of Mumia Abu-Jamal
LOCATION:ANSWER Coalition Meeting Room\n2969 Mission St, San Francisco \nnear 26th 
 St., 2 blocks from 24th St. BART
URL:https://www.indybay.org/newsitems/2018/10/17/18818246.php
DTSTART:20181026T020000Z
DTEND:20181026T043000Z
END:VEVENT
END:VCALENDAR
