BEGIN:VCALENDAR
VERSION:2.0
X-WR-CALNAME:www.indybay.org
PRODID:-//indybay/ical// v1.0//EN
BEGIN:VEVENT
UID:Indybay-18818211
SEQUENCE:18961960
CREATED:20181015T005700Z
DESCRIPTION:10/20 SF Rally & March For Marriott Hotel Strikers “One Job Is 
 Enough"\nhttp://sflaborcouncil.org/wp-content/uploads/2018/10/10-20-18-OneJobRallyFlier.pdf\n\nOne 
 Job Should be Enough!\n\nRally & March in Support of Striking Marriott 
 Workers\n\nSaturday, October 20th\n9:00 AM\nMeet at Local 2 Justice Plaza 
 Market Street between 3rd & 4th Streets\n\nFor more information on the 
 strike check out https://onejob.org/. OPEIU 29 AFL-CIO 11 
 \n\nhttps://onejob.org\n\nSF Marriott Workers Strike: A Class Battle For 
 All Workers\nhttps://youtu.be/R8M0mrxJpxA\nTwenty five hundred Marriott 
 workers went on strike in San Francisco on October 4, 2018  at 7 Marriott 
 owned hotels in the city. This is part of a national strike of United HERE  
 at Marriotts in Boston, Chicago, Oakland, Hawaii, San Francisco and other 
 cities.\nSan Francisco members of Unite Here Local 2  at the Marriott 
 talked about why they are on strike and the effect of the strike on their 
 convention  hotel which is usually 100% full because of convention 
 business.\nLast year,  Marriott made $1.37 billion and they are the largest 
 hotel chain in the world after they bought the Starwood group. Workers at 
 the Marriott hotel spent 5 years trying to organize the union against the 
 union busting tactics of the corporation but we eventually 
 successful.\nMany of these workers have to work two and three jobs to 
 survive in the Bay Area and this has effects on their families and health 
 and safety. They also face long hours commuting to their jobs.\nAdditional 
 media:\nBillionaires Pay Up! SF Unite HERE Local 2 Bohemian Club Workers 
 Fight For Living Wage\nhttps://www.youtube.com/watch?v=zsEyvHK4X1U\nStop 
 Attacking Unite Here Local 2 SF AT&T Ballpark Centerplate Workers-Workers 
 Vote To Strike\nhttps://www.youtube.com/watch?v=cZYQ_-pf4aE\nOakland 
 Airport Unite Here 2850 Fast Food Workers Fight Union 
 Busting\nhttps://www.youtube.com/watch?v=0-BarHDMqR8\nThe ZIM'S HERE Local 
 2 San Francisco Workers Shut It 
 Down\nhttps://www.youtube.com/watch?v=VI8orA3Cg0o\nSF Unite-Here Local 2 
 Hotel Workers Rally & March On Expiration Of Their 2009 
 Contract\nhttps://www.youtube.com/watch?v=X7xHpTBiT6M\nSF 2014 Labor Day 
 March Picket Union Busting Fisherman Wharf Hyatt and Radisson 
 Hotels\nhttps://www.youtube.com/watch?v=6zCAL0ELEW8\n35th Anniversary of 
 the 1980 San Francisco Unite Here Local 2 Hotel 
 Strike\nhttps://www.youtube.com/watch?v=u622q87NDR0\nSF HERE Local 2 Hotel 
 Workers Shut It Down In 1980 "Union 
 Town”\nhttps://www.youtube.com/watch?v=p_0cY8XIKXE\nFor more 
 information:\nwww.facebook.com/unitehere2/\nProduction of Labor Video 
 Project\nwww.laborvideo.org\n\n 
 https://www.indybay.org/newsitems/2018/10/14/18818211.php
SUMMARY:SF Rally & March For Marriott Hotel Strikers “One Job Is Enough"
LOCATION:Local 2 Justice Plaza Market Street between 3rd & 4th Streets\nSan 
 Francisco
URL:https://www.indybay.org/newsitems/2018/10/14/18818211.php
DTSTART:20181020T160000Z
DTEND:20181020T190000Z
END:VEVENT
END:VCALENDAR
