BEGIN:VCALENDAR
VERSION:2.0
X-WR-CALNAME:www.indybay.org
PRODID:-//indybay/ical// v1.0//EN
BEGIN:VEVENT
UID:Indybay-18817490
SEQUENCE:18960815
CREATED:20180913T161800Z
DESCRIPTION:U.S. troops, warships and bases already cover the region. Now, the Pentagon 
 is stepping up its proxy war in Yemen, refusing to remove forces from 
 Syria, and increasing drone warfare in the Middle East and Africa, on top 
 of the Trump regime’s brutal economic war against Iran and the 
 Palestinian people. What is Washington's real strategy in the region? Join 
 us for discussion of these crucial issues and get involved in the movement 
 against U.S. imperialism.\n\n$3-10 donation, no one turned away for lack of 
 funds. \nRefreshments provided. Wheelchair accessible.\n\nFacebook: 
 https://www.facebook.com/events/511827122629579/\n 
 https://www.indybay.org/newsitems/2018/09/13/18817490.php
SUMMARY:Socialist Analysis & Discussion on US War Drive in Middle East
LOCATION:2969 Mission St. between 25th and 26th Sts. 
URL:https://www.indybay.org/newsitems/2018/09/13/18817490.php
DTSTART:20180922T020000Z
DTEND:20180922T033000Z
END:VEVENT
END:VCALENDAR
