BEGIN:VCALENDAR
VERSION:2.0
X-WR-CALNAME:www.indybay.org
PRODID:-//indybay/ical// v1.0//EN
BEGIN:VEVENT
UID:Indybay-18817359
SEQUENCE:18960611
CREATED:20180908T000900Z
DESCRIPTION:Bay Area dance partners Christy Funsch and Nol Simonse co-direct their 
 first full-length group work, Golden Bull, featuring an all-male, 
 multi-ethnic cast. Golden Bull draws from Pagan rituals and ceremonies to 
 dismantle male power through feminizations of spatial constructs, touch, 
 and listening. With original music by composer Aaron Gold, lighting design 
 by Harry Rubeck, and performances by Hien Huynh, Rogelio Lopez, Andrew 
 Merrell, Victor Talledos, and Erik Wagner. \n 
 https://www.indybay.org/newsitems/2018/09/07/18817359.php
SUMMARY:Golden Bull
LOCATION:Dance Mission Theater, 3316 24th Street at Mission Street in San Francisco.
URL:https://www.indybay.org/newsitems/2018/09/07/18817359.php
DTSTART:20181103T030000Z
DTEND:20181103T040000Z
END:VEVENT
END:VCALENDAR
