BEGIN:VCALENDAR
VERSION:2.0
X-WR-CALNAME:www.indybay.org
PRODID:-//indybay/ical// v1.0//EN
BEGIN:VEVENT
UID:Indybay-18817351
SEQUENCE:18960597
CREATED:20180907T220100Z
DESCRIPTION:Come Engage Your Imagination\n\nCan you envision what Lot #4 could look 
 like 5-10 years from now? A five-story parking garage with a library under 
 it? Or a community park and gathering place? What will our shared iconic 
 Farmer's Market space be? Let all of us have a voice.\n\nJoin us at the 
 Farmer's Market for facilitated group visioning on a white board, in images 
 and words. Or create your own vision as an individual artist or writer. You 
 might sit across the street and sketch it out, then take it home and work a 
 little more on it. \n\nAll creative output is invited to be on display 
 across the street from the Farmer's Market during First Friday on Oct. 5. 
 \n\nFor more information contact: robertmorgan@baymoon.com\n 
 https://www.indybay.org/newsitems/2018/09/07/18817351.php
SUMMARY:Envisioning Lot #4: A Happening
LOCATION:Cedar/Cathcart (Lot 4)\n610 Cedar St, Santa Cruz
URL:https://www.indybay.org/newsitems/2018/09/07/18817351.php
DTSTART:20180919T210000Z
DTEND:20180920T000000Z
END:VEVENT
END:VCALENDAR
