BEGIN:VCALENDAR
VERSION:2.0
X-WR-CALNAME:www.indybay.org
PRODID:-//indybay/ical// v1.0//EN
BEGIN:VEVENT
UID:Indybay-18816542
SEQUENCE:18966152
CREATED:20180723T052000Z
DESCRIPTION:Discussion - "Reform or Revolution." "There is nothing more unrealistic 
 than the idea of reforming this system into something that would come 
 anywhere near being in the interests of the great majority of people and 
 ultimately of humanity as a whole." - Bob Avakian, BAsics\n 
 https://www.indybay.org/newsitems/2018/07/22/18816542.php
SUMMARY:Discussion: Reform or Revolution
LOCATION:Revolution Books, 2444 Durant Ave. Berkeley CA 94704
URL:https://www.indybay.org/newsitems/2018/07/22/18816542.php
DTSTART:20180725T020000Z
DTEND:20180725T040000Z
END:VEVENT
END:VCALENDAR
